BEGIN:VCALENDAR
VERSION:2.0
PRODID:icalendar-ruby
CALSCALE:GREGORIAN
METHOD:PUBLISH
BEGIN:VEVENT
DTSTAMP:20260424T134716Z
UID:171-2458424@gymeabaptist.org.au
DTSTART:20260514T090000Z
DTEND:20260514T110000Z
CLASS:PUBLIC
CREATED:20260424T075242
DESCRIPTION:GBC is hosting the next Shire Praise Night. Everyone is welcome
  to join us for prayer and worship at 7pm on 14 May!\n 
LAST-MODIFIED:20260424T075242
LOCATION:Gymea Baptist Church
SUMMARY:Shire Praise Night
URL;VALUE=URI:https://www.gymeabaptist.org.au/events/shire-praise-night/202
 6-05-14
ATTACH;FILENAME=Screen Shot 2026-04-24 at 7.46.33 am.png;FMTTYPE=image/png:
 https://dq5pwpg1q8ru0.cloudfront.net/2026/04/23/21/47/58/732adf8d-97b9-447
 1-a300-63fb94b08384/Screen%20Shot%202026-04-24%20at%207.46.33%20am.png
END:VEVENT
END:VCALENDAR
